BEGIN:VCALENDAR
VERSION:2.0
PRODID:-//eventon.com NONSGML v1.0//EN
CALSCALE:GREGORIAN
METHOD:PUBLISH
BEGIN:VEVENT
UID:69e9428939f1c
DTSTAMP:20260422T215001Z
DTSTART:20191117T100000Z
DTEND:20191117T113000Z
LOCATION:Online
SUMMARY:MLT Online-Treffen
DESCRIPTION:Möchtest Du Deine MLT-Kenntnisse und Fertigkeiten vertiefen? W
 er kennt es nicht? Man möchte gerne mehr über die Music Learning Theory u
 nd Ihre Anwendung erfahren\,  doch irgendwie ist der Alltag stressig und di
 e Dringlichkeit fehlt. Also wird es auf später verschoben &#8211; immer un
 d immer wieder. Wäre es da nicht schön\, [..]\nhttps://www.gordon-gesells
 chaft.de/termine/mlt-online-treffen/var/ri-4.l-L1
URL:https://www.gordon-gesellschaft.de/termine/mlt-online-treffen/var/ri-4.l-L1
END:VEVENT
END:VCALENDAR